BEGIN:VCALENDAR
VERSION:2.0
PRODID:-//Pictures London//Cinema Listings//EN
CALSCALE:GREGORIAN
METHOD:PUBLISH
X-WR-CALNAME:Pictures London Cinema
BEGIN:VEVENT
UID:788babc1-843a-41af-8593-a814c539f845@pictures.london
DTSTART:20260421T173000Z
DTEND:20260421T192400Z
SUMMARY:Rose of Nevada (2026) at Picturehouse Central
DESCRIPTION:Rose of Nevada (2026)\nat Picturehouse Central\nBook: https://www.picturehouses.com/movie-details/022/HO00017705/rose-of-nevada\nvia Pictures (pictures.london)
LOCATION:Picturehouse Central\, Corner of Great Windmill Street & Shaftesbury Avenue\, West End\, W1D 7DH
URL:https://www.picturehouses.com/movie-details/022/HO00017705/rose-of-nevada
STATUS:CONFIRMED
END:VEVENT
END:VCALENDAR