BEGIN:VCALENDAR
VERSION:2.0
PRODID:-//Pictures London//Cinema Listings//EN
CALSCALE:GREGORIAN
METHOD:PUBLISH
X-WR-CALNAME:Pictures London Cinema
BEGIN:VEVENT
UID:786a7220-ae05-420b-9c11-9da161cac36a@pictures.london
DTSTART:20260424T171500Z
DTEND:20260424T172500Z
SUMMARY:Primavera (1998) at Curzon Bloomsbury
DESCRIPTION:Primavera (1998)\nat Curzon Bloomsbury\nBook: https://www.curzon.com/films/primavera/HO00006900/\nvia Pictures (pictures.london)
LOCATION:Curzon Bloomsbury\, The Brunswick Centre\, Bloomsbury\, WC1H 8AG
URL:https://www.curzon.com/films/primavera/HO00006900/
STATUS:CONFIRMED
END:VEVENT
END:VCALENDAR