BEGIN:VCALENDAR
VERSION:2.0
PRODID:-//Pictures London//Cinema Listings//EN
CALSCALE:GREGORIAN
METHOD:PUBLISH
X-WR-CALNAME:Pictures London Cinema
BEGIN:VEVENT
UID:780b7d1b-3745-4fa9-b586-fff221ea068a@pictures.london
DTSTART:20260427T180000Z
DTEND:20260427T202800Z
SUMMARY:Sound of Falling (2025) at David Lean Cinema
DESCRIPTION:Sound of Falling (2025)\nat David Lean Cinema\nBook: https://tinyurl.com/5ee88nmk\nvia Pictures (pictures.london)
LOCATION:David Lean Cinema\, The Clocktower\, Croydon Airport\, Croydon\, CR0 0XZ
URL:https://tinyurl.com/5ee88nmk
STATUS:CONFIRMED
END:VEVENT
END:VCALENDAR