BEGIN:VCALENDAR
VERSION:2.0
PRODID:-//Pictures London//Cinema Listings//EN
CALSCALE:GREGORIAN
METHOD:PUBLISH
X-WR-CALNAME:Pictures London Cinema
BEGIN:VEVENT
UID:77d9032c-23e0-40be-9214-663ce22efe8c@pictures.london
DTSTART:20260424T104500Z
DTEND:20260424T122300Z
SUMMARY:La Haine (1995) at Prince Charles Cinema
DESCRIPTION:La Haine (1995)\nat Prince Charles Cinema\nBook: https://princecharlescinema.com/prince-charles-cinema/booknow/31625611\nvia Pictures (pictures.london)
LOCATION:Prince Charles Cinema\, 7 Leicester Place\, Leicester Square\, WC2H 7BY
URL:https://princecharlescinema.com/prince-charles-cinema/booknow/31625611
STATUS:CONFIRMED
END:VEVENT
END:VCALENDAR