BEGIN:VCALENDAR
VERSION:2.0
PRODID:-//Pictures London//Cinema Listings//EN
CALSCALE:GREGORIAN
METHOD:PUBLISH
X-WR-CALNAME:Pictures London Cinema
BEGIN:VEVENT
UID:77b143c6-3bd3-48c6-b5f3-13f03beba9f3@pictures.london
DTSTART:20260426T150000Z
DTEND:20260426T163100Z
SUMMARY:Enys Men (2023) at BFI Southbank
DESCRIPTION:Enys Men (2023)\nat BFI Southbank\nEvent: intro\nBook: https://whatson.bfi.org.uk/Online/default.asp?doWork::WScontent::loadArticle=Load&BOparam::WScontent::loadArticle::article_id=4A049869-A440-436B-86C5-5766F6FE978C&BOparam::WScontent::loadArticle::context_id=137B3B97-B1B6-4444-814D-B140ACB33B51\nvia Pictures (pictures.london)
LOCATION:BFI Southbank\, Belvedere Road\, South Bank\, SE1 8XT
URL:https://whatson.bfi.org.uk/Online/default.asp?doWork::WScontent::loadArticle=Load&BOparam::WScontent::loadArticle::article_id=4A049869-A440-436B-86C5-5766F6FE978C&BOparam::WScontent::loadArticle::context_id=137B3B97-B1B6-4444-814D-B140ACB33B51
STATUS:CONFIRMED
END:VEVENT
END:VCALENDAR