BEGIN:VCALENDAR
VERSION:2.0
PRODID:-//Pictures London//Cinema Listings//EN
CALSCALE:GREGORIAN
METHOD:PUBLISH
X-WR-CALNAME:Pictures London Cinema
BEGIN:VEVENT
UID:773a0977-3d8e-46d0-a8ac-2e4a8211bb71@pictures.london
DTSTART:20260713T133000Z
DTEND:20260713T153000Z
SUMMARY:Classic Matinee: THE FULL MONTY (1997) at Rio Cinema
DESCRIPTION:Classic Matinee: THE FULL MONTY (1997)\nat Rio Cinema\nBook: https://riocinema.org.uk/Rio.dll/WhatsOn?f=2266097\nvia Pictures (pictures.london)
LOCATION:Rio Cinema\, 107 Kingsland High Street\, Dalston\, E8 2PB
URL:https://riocinema.org.uk/Rio.dll/WhatsOn?f=2266097
STATUS:CONFIRMED
END:VEVENT
END:VCALENDAR