BEGIN:VCALENDAR
VERSION:2.0
PRODID:-//Pictures London//Cinema Listings//EN
CALSCALE:GREGORIAN
METHOD:PUBLISH
X-WR-CALNAME:Pictures London Cinema
BEGIN:VEVENT
UID:770b6dae-c76a-41ae-96c9-631fc8129ef3@pictures.london
DTSTART:20260421T173000Z
DTEND:20260421T194400Z
SUMMARY:Lee Cronin's The Mummy (2026) at Everyman Barnet
DESCRIPTION:Lee Cronin's The Mummy (2026)\nat Everyman Barnet\nBook: https://purchase.everymancinema.com/launch/ticketing/3b13f279-cd10-51e3-9b11-440a25e19a1a\nvia Pictures (pictures.london)
LOCATION:Everyman Barnet\, Great North Road\, Barnet\, EN5 5SJ
URL:https://purchase.everymancinema.com/launch/ticketing/3b13f279-cd10-51e3-9b11-440a25e19a1a
STATUS:CONFIRMED
END:VEVENT
END:VCALENDAR