BEGIN:VCALENDAR
VERSION:2.0
PRODID:-//Pictures London//Cinema Listings//EN
CALSCALE:GREGORIAN
METHOD:PUBLISH
X-WR-CALNAME:Pictures London Cinema
BEGIN:VEVENT
UID:76c89d5b-6d4a-48c7-90cc-e965b4303a3b@pictures.london
DTSTART:20260421T182000Z
DTEND:20260421T193900Z
SUMMARY:Underland (2026) at Hackney Picturehouse
DESCRIPTION:Underland (2026)\nat Hackney Picturehouse\nBook: https://www.picturehouses.com/movie-details/010/HO00017761/underland\nvia Pictures (pictures.london)
LOCATION:Hackney Picturehouse\, 270 Mare Street\, Hackney\, E8 1EJ
URL:https://www.picturehouses.com/movie-details/010/HO00017761/underland
STATUS:CONFIRMED
END:VEVENT
END:VCALENDAR