BEGIN:VCALENDAR
VERSION:2.0
PRODID:-//Pictures London//Cinema Listings//EN
CALSCALE:GREGORIAN
METHOD:PUBLISH
X-WR-CALNAME:Pictures London Cinema
BEGIN:VEVENT
UID:767a2d6b-2505-4441-a197-10ed9e1a5535@pictures.london
DTSTART:20260421T203000Z
DTEND:20260421T222400Z
SUMMARY:Rose of Nevada (2026) at Hackney Picturehouse
DESCRIPTION:Rose of Nevada (2026)\nat Hackney Picturehouse\nBook: https://www.picturehouses.com/movie-details/010/HO00017705/rose-of-nevada\nvia Pictures (pictures.london)
LOCATION:Hackney Picturehouse\, 270 Mare Street\, Hackney\, E8 1EJ
URL:https://www.picturehouses.com/movie-details/010/HO00017705/rose-of-nevada
STATUS:CONFIRMED
END:VEVENT
END:VCALENDAR