BEGIN:VCALENDAR
VERSION:2.0
PRODID:-//Pictures London//Cinema Listings//EN
CALSCALE:GREGORIAN
METHOD:PUBLISH
X-WR-CALNAME:Pictures London Cinema
BEGIN:VEVENT
UID:767963cb-ea9e-457f-93b4-fef5a0e170f7@pictures.london
DTSTART:20260421T161500Z
DTEND:20260421T175100Z
SUMMARY:Rebuilding (2025) at Curzon Victoria
DESCRIPTION:Rebuilding (2025)\nat Curzon Victoria\nBook: https://www.curzon.com/films/rebuilding/HO00006901/\nvia Pictures (pictures.london)
LOCATION:Curzon Victoria\, 58 Victoria Street\, Victoria\, SW1E 5JA
URL:https://www.curzon.com/films/rebuilding/HO00006901/
STATUS:CONFIRMED
END:VEVENT
END:VCALENDAR