BEGIN:VCALENDAR
VERSION:2.0
PRODID:-//Pictures London//Cinema Listings//EN
CALSCALE:GREGORIAN
METHOD:PUBLISH
X-WR-CALNAME:Pictures London Cinema
BEGIN:VEVENT
UID:767312b8-6db7-495c-85f5-1c8612563ada@pictures.london
DTSTART:20260421T140000Z
DTEND:20260421T160400Z
SUMMARY:Akira (1988) at Prince Charles Cinema
DESCRIPTION:Akira (1988)\nat Prince Charles Cinema\nBook: https://princecharlescinema.com/prince-charles-cinema/booknow/31625825\nvia Pictures (pictures.london)
LOCATION:Prince Charles Cinema\, 7 Leicester Place\, Leicester Square\, WC2H 7BY
URL:https://princecharlescinema.com/prince-charles-cinema/booknow/31625825
STATUS:CONFIRMED
END:VEVENT
END:VCALENDAR