BEGIN:VCALENDAR
VERSION:2.0
PRODID:-//Pictures London//Cinema Listings//EN
CALSCALE:GREGORIAN
METHOD:PUBLISH
X-WR-CALNAME:Pictures London Cinema
BEGIN:VEVENT
UID:75f7de6c-7237-4c42-9064-57688315f525@pictures.london
DTSTART:20260421T173000Z
DTEND:20260421T193000Z
SUMMARY:AKIRA (2026 Re-release) (Subbed) (2026) at Everyman Stratford International
DESCRIPTION:AKIRA (2026 Re-release) (Subbed) (2026)\nat Everyman Stratford International\nFormat: DCP_4K\nBook: https://purchase.everymancinema.com/launch/ticketing/4538c8ef-dc88-5e0f-8e5d-5bd74034d2c3\nvia Pictures (pictures.london)
LOCATION:Everyman Stratford International\, International Way\, Stratford\, E20 1GL
URL:https://purchase.everymancinema.com/launch/ticketing/4538c8ef-dc88-5e0f-8e5d-5bd74034d2c3
STATUS:CONFIRMED
END:VEVENT
END:VCALENDAR