BEGIN:VCALENDAR
VERSION:2.0
PRODID:-//Pictures London//Cinema Listings//EN
CALSCALE:GREGORIAN
METHOD:PUBLISH
X-WR-CALNAME:Pictures London Cinema
BEGIN:VEVENT
UID:7542d210-5691-45bb-9e92-f31c0b960be1@pictures.london
DTSTART:20260421T164500Z
DTEND:20260421T183500Z
SUMMARY:The Magic Faraway Tree (2026) at Everyman Crystal Palace
DESCRIPTION:The Magic Faraway Tree (2026)\nat Everyman Crystal Palace\nBook: https://purchase.everymancinema.com/launch/ticketing/09eae400-aab8-52b8-ac51-6c40190b0ff1\nvia Pictures (pictures.london)
LOCATION:Everyman Crystal Palace\, 25 Church Road\, Crystal Palace\, SE19 2AE
URL:https://purchase.everymancinema.com/launch/ticketing/09eae400-aab8-52b8-ac51-6c40190b0ff1
STATUS:CONFIRMED
END:VEVENT
END:VCALENDAR