BEGIN:VCALENDAR
VERSION:2.0
PRODID:-//Pictures London//Cinema Listings//EN
CALSCALE:GREGORIAN
METHOD:PUBLISH
X-WR-CALNAME:Pictures London Cinema
BEGIN:VEVENT
UID:7506f7e9-3cf1-40e2-a428-b7463f55a412@pictures.london
DTSTART:20260422T101500Z
DTEND:20260422T120500Z
SUMMARY:The Magic Faraway Tree (2026) at Everyman Barnet
DESCRIPTION:The Magic Faraway Tree (2026)\nat Everyman Barnet\nBook: https://purchase.everymancinema.com/launch/ticketing/1b725656-0c5e-5550-be3f-0010296c7231\nvia Pictures (pictures.london)
LOCATION:Everyman Barnet\, Great North Road\, Barnet\, EN5 5SJ
URL:https://purchase.everymancinema.com/launch/ticketing/1b725656-0c5e-5550-be3f-0010296c7231
STATUS:CONFIRMED
END:VEVENT
END:VCALENDAR