BEGIN:VCALENDAR
VERSION:2.0
PRODID:-//Pictures London//Cinema Listings//EN
CALSCALE:GREGORIAN
METHOD:PUBLISH
X-WR-CALNAME:Pictures London Cinema
BEGIN:VEVENT
UID:750519ea-4c16-4af1-936d-9de2886ec7f8@pictures.london
DTSTART:20260501T174500Z
DTEND:20260501T194400Z
SUMMARY:The Devil Wears Prada 2 (2026) at Greenwich Picturehouse
DESCRIPTION:The Devil Wears Prada 2 (2026)\nat Greenwich Picturehouse\nBook: https://www.picturehouses.com/movie-details/021/HO00017738/the-devil-wears-prada-2\nvia Pictures (pictures.london)
LOCATION:Greenwich Picturehouse\, 180 Greenwich High Road\, Greenwich\, SE10 9HB
URL:https://www.picturehouses.com/movie-details/021/HO00017738/the-devil-wears-prada-2
STATUS:CONFIRMED
END:VEVENT
END:VCALENDAR