BEGIN:VCALENDAR
VERSION:2.0
PRODID:-//Pictures London//Cinema Listings//EN
CALSCALE:GREGORIAN
METHOD:PUBLISH
X-WR-CALNAME:Pictures London Cinema
BEGIN:VEVENT
UID:74f2ed7a-3cbe-4068-b5d7-190c7fcf93b1@pictures.london
DTSTART:20260422T174500Z
DTEND:20260422T195200Z
SUMMARY:Michael (2026) at Everyman Muswell Hill
DESCRIPTION:Michael (2026)\nat Everyman Muswell Hill\nBook: https://purchase.everymancinema.com/launch/ticketing/56ac4e9c-97cd-5b43-8cda-57d314c69f66\nvia Pictures (pictures.london)
LOCATION:Everyman Muswell Hill\, Fortis Green Road\, Muswell Hill\, N10 3TD
URL:https://purchase.everymancinema.com/launch/ticketing/56ac4e9c-97cd-5b43-8cda-57d314c69f66
STATUS:CONFIRMED
END:VEVENT
END:VCALENDAR