BEGIN:VCALENDAR
VERSION:2.0
PRODID:-//Pictures London//Cinema Listings//EN
CALSCALE:GREGORIAN
METHOD:PUBLISH
X-WR-CALNAME:Pictures London Cinema
BEGIN:VEVENT
UID:743b480b-c94f-4781-9bba-ed85eaf5fb07@pictures.london
DTSTART:20260702T191500Z
DTEND:20260702T211500Z
SUMMARY:My Chemical Romance: Life on the Murder Scene (2006) at Rio Cinema
DESCRIPTION:My Chemical Romance: Life on the Murder Scene (2006)\nat Rio Cinema\nBook: https://riocinema.org.uk/Rio.dll/WhatsOn?f=2400815\nvia Pictures (pictures.london)
LOCATION:Rio Cinema\, 107 Kingsland High Street\, Dalston\, E8 2PB
URL:https://riocinema.org.uk/Rio.dll/WhatsOn?f=2400815
STATUS:CONFIRMED
END:VEVENT
END:VCALENDAR