BEGIN:VCALENDAR
VERSION:2.0
PRODID:-//Pictures London//Cinema Listings//EN
CALSCALE:GREGORIAN
METHOD:PUBLISH
X-WR-CALNAME:Pictures London Cinema
BEGIN:VEVENT
UID:741b1ba7-c56d-460e-8897-a8d1c0a27e5e@pictures.london
DTSTART:20260423T193000Z
DTEND:20260423T211900Z
SUMMARY:Ultras (2020) at Hackney Picturehouse
DESCRIPTION:Ultras (2020)\nat Hackney Picturehouse\nEvent: q and a\nBook: https://www.picturehouses.com/movie-details/010/HO00017876/ultras-q-a-with-director-ragnhild-ekner\nvia Pictures (pictures.london)
LOCATION:Hackney Picturehouse\, 270 Mare Street\, Hackney\, E8 1EJ
URL:https://www.picturehouses.com/movie-details/010/HO00017876/ultras-q-a-with-director-ragnhild-ekner
STATUS:CONFIRMED
END:VEVENT
END:VCALENDAR