BEGIN:VCALENDAR
VERSION:2.0
PRODID:-//Pictures London//Cinema Listings//EN
CALSCALE:GREGORIAN
METHOD:PUBLISH
X-WR-CALNAME:Pictures London Cinema
BEGIN:VEVENT
UID:7385d170-e76f-4c40-9e14-d6a0aa89b856@pictures.london
DTSTART:20260421T110000Z
DTEND:20260421T124700Z
SUMMARY:California Schemin' (2026) at Castle Sidcup
DESCRIPTION:California Schemin' (2026)\nat Castle Sidcup\nBook: https://castlesidcup.com/bookings/1806/\nvia Pictures (pictures.london)
LOCATION:Castle Sidcup\, 44 Main Road\, Sidcup\, DA14 6NJ
URL:https://castlesidcup.com/bookings/1806/
STATUS:CONFIRMED
END:VEVENT
END:VCALENDAR