BEGIN:VCALENDAR
VERSION:2.0
PRODID:-//Pictures London//Cinema Listings//EN
CALSCALE:GREGORIAN
METHOD:PUBLISH
X-WR-CALNAME:Pictures London Cinema
BEGIN:VEVENT
UID:7342f9e9-f547-40e3-89a9-41ce82120683@pictures.london
DTSTART:20260424T211500Z
DTEND:20260424T230700Z
SUMMARY:Mother Mary (2026) at Everyman Barnet
DESCRIPTION:Mother Mary (2026)\nat Everyman Barnet\nBook: https://purchase.everymancinema.com/launch/ticketing/607a339c-8701-52de-91cf-b1f6b1b11451\nvia Pictures (pictures.london)
LOCATION:Everyman Barnet\, Great North Road\, Barnet\, EN5 5SJ
URL:https://purchase.everymancinema.com/launch/ticketing/607a339c-8701-52de-91cf-b1f6b1b11451
STATUS:CONFIRMED
END:VEVENT
END:VCALENDAR