BEGIN:VCALENDAR
VERSION:2.0
PRODID:-//Pictures London//Cinema Listings//EN
CALSCALE:GREGORIAN
METHOD:PUBLISH
X-WR-CALNAME:Pictures London Cinema
BEGIN:VEVENT
UID:7319c37d-5b44-4aa8-8615-1423e8e10fcc@pictures.london
DTSTART:20260422T163000Z
DTEND:20260422T183700Z
SUMMARY:Michael (2026) at Everyman Hampstead
DESCRIPTION:Michael (2026)\nat Everyman Hampstead\nBook: https://purchase.everymancinema.com/launch/ticketing/7b42349d-33d8-5f70-bb14-9bb713c8ed17\nvia Pictures (pictures.london)
LOCATION:Everyman Hampstead\, 5 Holly Bush Vale\, Hampstead\, NW3 1QE
URL:https://purchase.everymancinema.com/launch/ticketing/7b42349d-33d8-5f70-bb14-9bb713c8ed17
STATUS:CONFIRMED
END:VEVENT
END:VCALENDAR