BEGIN:VCALENDAR
VERSION:2.0
PRODID:-//Pictures London//Cinema Listings//EN
CALSCALE:GREGORIAN
METHOD:PUBLISH
X-WR-CALNAME:Pictures London Cinema
BEGIN:VEVENT
UID:72ac5fcd-7b10-4d3c-a432-ea2b907c08b5@pictures.london
DTSTART:20260421T173000Z
DTEND:20260421T185600Z
SUMMARY:Miroirs No. 3 (2025) at Cine Lumiere
DESCRIPTION:Miroirs No. 3 (2025)\nat Cine Lumiere\nBook: https://cinelumiere.savoysystems.co.uk/CineLumiere.dll/TSelectItems.waSelectItemsPrompt.TcsWebMenuItem_600.TcsWebTab_601.TcsPerformance_6699173.TcsSection_3841519\nvia Pictures (pictures.london)
LOCATION:Cine Lumiere\, 17 Queensberry Place\, South Kensington\, SW7 2DT
URL:https://cinelumiere.savoysystems.co.uk/CineLumiere.dll/TSelectItems.waSelectItemsPrompt.TcsWebMenuItem_600.TcsWebTab_601.TcsPerformance_6699173.TcsSection_3841519
STATUS:CONFIRMED
END:VEVENT
END:VCALENDAR