BEGIN:VCALENDAR
VERSION:2.0
PRODID:-//Pictures London//Cinema Listings//EN
CALSCALE:GREGORIAN
METHOD:PUBLISH
X-WR-CALNAME:Pictures London Cinema
BEGIN:VEVENT
UID:72974ea1-65c2-46f6-9b79-364b5e4df393@pictures.london
DTSTART:20260501T173000Z
DTEND:20260501T192900Z
SUMMARY:The Devil Wears Prada 2 (2026) at Everyman Canary Wharf
DESCRIPTION:The Devil Wears Prada 2 (2026)\nat Everyman Canary Wharf\nBook: https://purchase.everymancinema.com/launch/ticketing/05bf08f8-869e-51eb-8bdc-285a7f40bb61\nvia Pictures (pictures.london)
LOCATION:Everyman Canary Wharf\, Crossrail Place\, Canary Wharf\, E14 5NY
URL:https://purchase.everymancinema.com/launch/ticketing/05bf08f8-869e-51eb-8bdc-285a7f40bb61
STATUS:CONFIRMED
END:VEVENT
END:VCALENDAR