BEGIN:VCALENDAR
VERSION:2.0
PRODID:-//Pictures London//Cinema Listings//EN
CALSCALE:GREGORIAN
METHOD:PUBLISH
X-WR-CALNAME:Pictures London Cinema
BEGIN:VEVENT
UID:72890ab2-acbc-4db7-a943-4b1d0aafc574@pictures.london
DTSTART:20260422T133000Z
DTEND:20260422T152500Z
SUMMARY:Sirāt (2025) at Castle Cinema
DESCRIPTION:Sirāt (2025)\nat Castle Cinema\nBook: https://thecastlecinema.com/bookings/16423/\nvia Pictures (pictures.london)
LOCATION:Castle Cinema\, 64-66 Brooksby's Walk\, Hackney\, E9 6DA
URL:https://thecastlecinema.com/bookings/16423/
STATUS:CONFIRMED
END:VEVENT
END:VCALENDAR