BEGIN:VCALENDAR
VERSION:2.0
PRODID:-//Pictures London//Cinema Listings//EN
CALSCALE:GREGORIAN
METHOD:PUBLISH
X-WR-CALNAME:Pictures London Cinema
BEGIN:VEVENT
UID:72864935-f965-4425-b358-6db4abe5eebe@pictures.london
DTSTART:20260421T204500Z
DTEND:20260421T224500Z
SUMMARY:AKIRA (2026 Re-release) (Subbed) (2026) at Screen on the Green
DESCRIPTION:AKIRA (2026 Re-release) (Subbed) (2026)\nat Screen on the Green\nFormat: DCP_4K\nBook: https://purchase.everymancinema.com/launch/ticketing/69325e4e-de0c-5f9d-9707-c3418aa1350b\nvia Pictures (pictures.london)
LOCATION:Screen on the Green\, 83 Upper Street\, Islington\, N1 0PH
URL:https://purchase.everymancinema.com/launch/ticketing/69325e4e-de0c-5f9d-9707-c3418aa1350b
STATUS:CONFIRMED
END:VEVENT
END:VCALENDAR