BEGIN:VCALENDAR
VERSION:2.0
PRODID:-//Pictures London//Cinema Listings//EN
CALSCALE:GREGORIAN
METHOD:PUBLISH
X-WR-CALNAME:Pictures London Cinema
BEGIN:VEVENT
UID:725cf225-e50b-4556-b93e-5777b3974b25@pictures.london
DTSTART:20260428T141500Z
DTEND:20260428T161500Z
SUMMARY:La Vérité (4K Restoration) at Cine Lumiere
DESCRIPTION:La Vérité (4K Restoration)\nat Cine Lumiere\nFormat: DCP_4K\nBook: https://cinelumiere.savoysystems.co.uk/CineLumiere.dll/TSelectItems.waSelectItemsPrompt.TcsWebMenuItem_600.TcsWebTab_601.TcsPerformance_6702428.TcsSection_1928774\nvia Pictures (pictures.london)
LOCATION:Cine Lumiere\, 17 Queensberry Place\, South Kensington\, SW7 2DT
URL:https://cinelumiere.savoysystems.co.uk/CineLumiere.dll/TSelectItems.waSelectItemsPrompt.TcsWebMenuItem_600.TcsWebTab_601.TcsPerformance_6702428.TcsSection_1928774
STATUS:CONFIRMED
END:VEVENT
END:VCALENDAR