BEGIN:VCALENDAR
VERSION:2.0
PRODID:-//Pictures London//Cinema Listings//EN
CALSCALE:GREGORIAN
METHOD:PUBLISH
X-WR-CALNAME:Pictures London Cinema
BEGIN:VEVENT
UID:717aed76-d881-471f-bc2c-663f6f54e8c8@pictures.london
DTSTART:20260425T130000Z
DTEND:20260425T142200Z
SUMMARY:Mur Murs (1982) at Rio Cinema
DESCRIPTION:Mur Murs (1982)\nat Rio Cinema\nBook: https://riocinema.org.uk/Rio.dll/WhatsOn?f=2383893\nvia Pictures (pictures.london)
LOCATION:Rio Cinema\, 107 Kingsland High Street\, Dalston\, E8 2PB
URL:https://riocinema.org.uk/Rio.dll/WhatsOn?f=2383893
STATUS:CONFIRMED
END:VEVENT
END:VCALENDAR