BEGIN:VCALENDAR
VERSION:2.0
PRODID:-//Pictures London//Cinema Listings//EN
CALSCALE:GREGORIAN
METHOD:PUBLISH
X-WR-CALNAME:Pictures London Cinema
BEGIN:VEVENT
UID:716ec43b-f918-41f3-8839-5261bfaa492c@pictures.london
DTSTART:20260425T130000Z
DTEND:20260425T142900Z
SUMMARY:Ultras (2026) at Curzon Bloomsbury
DESCRIPTION:Ultras (2026)\nat Curzon Bloomsbury\nBook: https://www.curzon.com/films/dochouse-ultras/HO00006973/\nvia Pictures (pictures.london)
LOCATION:Curzon Bloomsbury\, The Brunswick Centre\, Bloomsbury\, WC1H 8AG
URL:https://www.curzon.com/films/dochouse-ultras/HO00006973/
STATUS:CONFIRMED
END:VEVENT
END:VCALENDAR