BEGIN:VCALENDAR
VERSION:2.0
PRODID:-//Pictures London//Cinema Listings//EN
CALSCALE:GREGORIAN
METHOD:PUBLISH
X-WR-CALNAME:Pictures London Cinema
BEGIN:VEVENT
UID:7138ea22-df89-42d5-a27b-1dee768d37d1@pictures.london
DTSTART:20260421T161500Z
DTEND:20260421T180000Z
SUMMARY:The Drama (2026) at Everyman King's Cross
DESCRIPTION:The Drama (2026)\nat Everyman King's Cross\nBook: https://purchase.everymancinema.com/launch/ticketing/a7216696-ec03-5d4a-92ad-ec80876873b5\nvia Pictures (pictures.london)
LOCATION:Everyman King's Cross\, Coal Drops Yard\, King's Cross\, N1C 4AG
URL:https://purchase.everymancinema.com/launch/ticketing/a7216696-ec03-5d4a-92ad-ec80876873b5
STATUS:CONFIRMED
END:VEVENT
END:VCALENDAR