BEGIN:VCALENDAR
VERSION:2.0
PRODID:-//Pictures London//Cinema Listings//EN
CALSCALE:GREGORIAN
METHOD:PUBLISH
X-WR-CALNAME:Pictures London Cinema
BEGIN:VEVENT
UID:70fbb79b-c007-4787-86c5-46d964762d2b@pictures.london
DTSTART:20260424T201500Z
DTEND:20260424T224100Z
SUMMARY:The Hurricane (1999) at BFI Southbank
DESCRIPTION:The Hurricane (1999)\nat BFI Southbank\nFormat: DIGITAL\nBook: https://whatson.bfi.org.uk/Online/default.asp?doWork::WScontent::search=1&BOparam::WScontent::search::article_search_id=25E7EA2E-291F-44F9-8EBC-E560154FDAEB&BOset::WScontent::SearchCriteria::search_criteria=The%20Hurricane\nvia Pictures (pictures.london)
LOCATION:BFI Southbank\, Belvedere Road\, South Bank\, SE1 8XT
URL:https://whatson.bfi.org.uk/Online/default.asp?doWork::WScontent::search=1&BOparam::WScontent::search::article_search_id=25E7EA2E-291F-44F9-8EBC-E560154FDAEB&BOset::WScontent::SearchCriteria::search_criteria=The%20Hurricane
STATUS:CONFIRMED
END:VEVENT
END:VCALENDAR