BEGIN:VCALENDAR
VERSION:2.0
PRODID:-//Pictures London//Cinema Listings//EN
CALSCALE:GREGORIAN
METHOD:PUBLISH
X-WR-CALNAME:Pictures London Cinema
BEGIN:VEVENT
UID:70dd62b8-e89e-41df-b925-f10b453e6a3a@pictures.london
DTSTART:20260424T164000Z
DTEND:20260424T165000Z
SUMMARY:Primavera (1998) at Olympic Studios
DESCRIPTION:Primavera (1998)\nat Olympic Studios\nBook: https://web1.empire.mycloudcinema.com/#/book/54995\nvia Pictures (pictures.london)
LOCATION:Olympic Studios\, 117-123 Church Road\, Barnes\, SW13 9HL
URL:https://web1.empire.mycloudcinema.com/#/book/54995
STATUS:CONFIRMED
END:VEVENT
END:VCALENDAR