BEGIN:VCALENDAR
VERSION:2.0
PRODID:-//Pictures London//Cinema Listings//EN
CALSCALE:GREGORIAN
METHOD:PUBLISH
X-WR-CALNAME:Pictures London Cinema
BEGIN:VEVENT
UID:707d451d-99f7-48ba-a9e2-cbd9ca420e02@pictures.london
DTSTART:20260421T125000Z
DTEND:20260421T141600Z
SUMMARY:Miroirs No. 3 (2025) at Finsbury Park Picturehouse
DESCRIPTION:Miroirs No. 3 (2025)\nat Finsbury Park Picturehouse\nBook: https://www.picturehouses.com/movie-details/029/HO00017905/miroirs-no-3\nvia Pictures (pictures.london)
LOCATION:Finsbury Park Picturehouse\, Unit B\, Finsbury Park Station\, Finsbury Park\, N4 3FP
URL:https://www.picturehouses.com/movie-details/029/HO00017905/miroirs-no-3
STATUS:CONFIRMED
END:VEVENT
END:VCALENDAR