BEGIN:VCALENDAR
VERSION:2.0
PRODID:-//Pictures London//Cinema Listings//EN
CALSCALE:GREGORIAN
METHOD:PUBLISH
X-WR-CALNAME:Pictures London Cinema
BEGIN:VEVENT
UID:7077a954-5185-41b8-a65d-b5b758b7ced8@pictures.london
DTSTART:20260421T170000Z
DTEND:20260421T185700Z
SUMMARY:The Stranger (2022) at Curzon Bloomsbury
DESCRIPTION:The Stranger (2022)\nat Curzon Bloomsbury\nBook: https://www.curzon.com/films/the-stranger/HO00006845/\nvia Pictures (pictures.london)
LOCATION:Curzon Bloomsbury\, The Brunswick Centre\, Bloomsbury\, WC1H 8AG
URL:https://www.curzon.com/films/the-stranger/HO00006845/
STATUS:CONFIRMED
END:VEVENT
END:VCALENDAR