BEGIN:VCALENDAR
VERSION:2.0
PRODID:-//Pictures London//Cinema Listings//EN
CALSCALE:GREGORIAN
METHOD:PUBLISH
X-WR-CALNAME:Pictures London Cinema
BEGIN:VEVENT
UID:7053ed18-adba-4267-a1cb-e58242e0c4c1@pictures.london
DTSTART:20260501T133000Z
DTEND:20260501T152900Z
SUMMARY:The Devil Wears Prada 2 (2026) at Everyman Chelsea
DESCRIPTION:The Devil Wears Prada 2 (2026)\nat Everyman Chelsea\nBook: https://purchase.everymancinema.com/launch/ticketing/1562b82c-196f-50cf-aa9b-582506c1e2e7\nvia Pictures (pictures.london)
LOCATION:Everyman Chelsea\, 279 King's Road\, Chelsea\, SW3 3TD
URL:https://purchase.everymancinema.com/launch/ticketing/1562b82c-196f-50cf-aa9b-582506c1e2e7
STATUS:CONFIRMED
END:VEVENT
END:VCALENDAR