BEGIN:VCALENDAR
VERSION:2.0
PRODID:-//Pictures London//Cinema Listings//EN
CALSCALE:GREGORIAN
METHOD:PUBLISH
X-WR-CALNAME:Pictures London Cinema
BEGIN:VEVENT
UID:701a79d3-8f24-4bca-b35f-baa9eab9bc26@pictures.london
DTSTART:20260429T104500Z
DTEND:20260429T124500Z
SUMMARY:Blue Velvet (1986) at Prince Charles Cinema
DESCRIPTION:Blue Velvet (1986)\nat Prince Charles Cinema\nFormat: 35MM\nBook: https://princecharlescinema.com/prince-charles-cinema/booknow/31625638\nvia Pictures (pictures.london)
LOCATION:Prince Charles Cinema\, 7 Leicester Place\, Leicester Square\, WC2H 7BY
URL:https://princecharlescinema.com/prince-charles-cinema/booknow/31625638
STATUS:CONFIRMED
END:VEVENT
END:VCALENDAR