BEGIN:VCALENDAR
VERSION:2.0
PRODID:-//Pictures London//Cinema Listings//EN
CALSCALE:GREGORIAN
METHOD:PUBLISH
X-WR-CALNAME:Pictures London Cinema
BEGIN:VEVENT
UID:70001232-6c48-47e6-9617-22233d04e7bf@pictures.london
DTSTART:20260422T170000Z
DTEND:20260422T190700Z
SUMMARY:Michael (2026) at Crouch End Picturehouse
DESCRIPTION:Michael (2026)\nat Crouch End Picturehouse\nBook: https://www.picturehouses.com/movie-details/024/HO00017772/michael\nvia Pictures (pictures.london)
LOCATION:Crouch End Picturehouse\, 165 Tottenham Lane\, Crouch End\, N8 8HP
URL:https://www.picturehouses.com/movie-details/024/HO00017772/michael
STATUS:CONFIRMED
END:VEVENT
END:VCALENDAR