BEGIN:VCALENDAR
VERSION:2.0
PRODID:-//Pictures London//Cinema Listings//EN
CALSCALE:GREGORIAN
METHOD:PUBLISH
X-WR-CALNAME:Pictures London Cinema
BEGIN:VEVENT
UID:6fec365e-e705-4359-988e-890c4ef5486d@pictures.london
DTSTART:20260502T093000Z
DTEND:20260502T104800Z
SUMMARY:Little Amélie or the Character of Rain (2025) at Curzon Hoxton
DESCRIPTION:Little Amélie or the Character of Rain (2025)\nat Curzon Hoxton\nBook: https://www.curzon.com/films/kids-club-little-am-lie/HO00006929/\nvia Pictures (pictures.london)
LOCATION:Curzon Hoxton\, 58 Pitfield Street\, Hoxton\, N1 6NU
URL:https://www.curzon.com/films/kids-club-little-am-lie/HO00006929/
STATUS:CONFIRMED
END:VEVENT
END:VCALENDAR