BEGIN:VCALENDAR
VERSION:2.0
PRODID:-//Pictures London//Cinema Listings//EN
CALSCALE:GREGORIAN
METHOD:PUBLISH
X-WR-CALNAME:Pictures London Cinema
BEGIN:VEVENT
UID:6fbec73f-11bb-45ed-ace8-76f5ed4d2ba0@pictures.london
DTSTART:20260421T200000Z
DTEND:20260421T220000Z
SUMMARY:AKIRA (2026 Re-release) (Subbed) (2026) at Curzon Aldgate
DESCRIPTION:AKIRA (2026 Re-release) (Subbed) (2026)\nat Curzon Aldgate\nBook: https://www.curzon.com/films/akira-2026-re-release-subbed/HO00006970/\nvia Pictures (pictures.london)
LOCATION:Curzon Aldgate\, 2 Whitechapel High Street\, Aldgate\, E1 8FA
URL:https://www.curzon.com/films/akira-2026-re-release-subbed/HO00006970/
STATUS:CONFIRMED
END:VEVENT
END:VCALENDAR