BEGIN:VCALENDAR
VERSION:2.0
PRODID:-//Pictures London//Cinema Listings//EN
CALSCALE:GREGORIAN
METHOD:PUBLISH
X-WR-CALNAME:Pictures London Cinema
BEGIN:VEVENT
UID:6f9d7cdd-e387-42d6-a32a-54f15d25864b@pictures.london
DTSTART:20260421T203000Z
DTEND:20260421T220600Z
SUMMARY:Rebuilding (2025) at Everyman Muswell Hill
DESCRIPTION:Rebuilding (2025)\nat Everyman Muswell Hill\nBook: https://purchase.everymancinema.com/launch/ticketing/1765abb5-4355-5068-b819-08d5acdd2541\nvia Pictures (pictures.london)
LOCATION:Everyman Muswell Hill\, Fortis Green Road\, Muswell Hill\, N10 3TD
URL:https://purchase.everymancinema.com/launch/ticketing/1765abb5-4355-5068-b819-08d5acdd2541
STATUS:CONFIRMED
END:VEVENT
END:VCALENDAR