BEGIN:VCALENDAR
VERSION:2.0
PRODID:-//Pictures London//Cinema Listings//EN
CALSCALE:GREGORIAN
METHOD:PUBLISH
X-WR-CALNAME:Pictures London Cinema
BEGIN:VEVENT
UID:6f4cf79e-d206-4c8e-b937-582269eac431@pictures.london
DTSTART:20260516T170000Z
DTEND:20260516T181400Z
SUMMARY:Flower Girl (2025) at Rio Cinema
DESCRIPTION:Flower Girl (2025)\nat Rio Cinema\nBook: https://riocinema.org.uk/Rio.dll/WhatsOn?f=2428660\nvia Pictures (pictures.london)
LOCATION:Rio Cinema\, 107 Kingsland High Street\, Dalston\, E8 2PB
URL:https://riocinema.org.uk/Rio.dll/WhatsOn?f=2428660
STATUS:CONFIRMED
END:VEVENT
END:VCALENDAR