BEGIN:VCALENDAR
VERSION:2.0
PRODID:-//Pictures London//Cinema Listings//EN
CALSCALE:GREGORIAN
METHOD:PUBLISH
X-WR-CALNAME:Pictures London Cinema
BEGIN:VEVENT
UID:6f0940b1-cd52-4bfd-8832-b951fc8e5453@pictures.london
DTSTART:20260421T202000Z
DTEND:20260421T223400Z
SUMMARY:Lee Cronin's The Mummy (2026) at Picturehouse Central
DESCRIPTION:Lee Cronin's The Mummy (2026)\nat Picturehouse Central\nBook: https://www.picturehouses.com/movie-details/022/HO00017903/lee-cronin-s-the-mummy\nvia Pictures (pictures.london)
LOCATION:Picturehouse Central\, Corner of Great Windmill Street & Shaftesbury Avenue\, West End\, W1D 7DH
URL:https://www.picturehouses.com/movie-details/022/HO00017903/lee-cronin-s-the-mummy
STATUS:CONFIRMED
END:VEVENT
END:VCALENDAR