BEGIN:VCALENDAR
VERSION:2.0
PRODID:-//Pictures London//Cinema Listings//EN
CALSCALE:GREGORIAN
METHOD:PUBLISH
X-WR-CALNAME:Pictures London Cinema
BEGIN:VEVENT
UID:6e98289a-221f-4d28-93c1-fc39c0438af5@pictures.london
DTSTART:20260606T165000Z
DTEND:20260606T181200Z
SUMMARY:Perfect Blue (1998) at Prince Charles Cinema
DESCRIPTION:Perfect Blue (1998)\nat Prince Charles Cinema\nBook: https://princecharlescinema.com/prince-charles-cinema/booknow/31626096\nvia Pictures (pictures.london)
LOCATION:Prince Charles Cinema\, 7 Leicester Place\, Leicester Square\, WC2H 7BY
URL:https://princecharlescinema.com/prince-charles-cinema/booknow/31626096
STATUS:CONFIRMED
END:VEVENT
END:VCALENDAR