BEGIN:VCALENDAR
VERSION:2.0
PRODID:-//Pictures London//Cinema Listings//EN
CALSCALE:GREGORIAN
METHOD:PUBLISH
X-WR-CALNAME:Pictures London Cinema
BEGIN:VEVENT
UID:6dd66c6a-3363-47ff-a4d6-d7fce8dbdcca@pictures.london
DTSTART:20260421T175000Z
DTEND:20260421T195400Z
SUMMARY:Akira (1988) at Genesis Cinema
DESCRIPTION:Akira (1988)\nat Genesis Cinema\nBook: https://genesis.admit-one.co.uk/seats/?perfCode=10573\nvia Pictures (pictures.london)
LOCATION:Genesis Cinema\, 93-95 Mile End Road\, Mile End\, E1 4UJ
URL:https://genesis.admit-one.co.uk/seats/?perfCode=10573
STATUS:CONFIRMED
END:VEVENT
END:VCALENDAR