BEGIN:VCALENDAR
VERSION:2.0
PRODID:-//Pictures London//Cinema Listings//EN
CALSCALE:GREGORIAN
METHOD:PUBLISH
X-WR-CALNAME:Pictures London Cinema
BEGIN:VEVENT
UID:6d2ea9b5-ea59-4c68-af07-ea9bd77a4f7a@pictures.london
DTSTART:20260421T202000Z
DTEND:20260421T220500Z
SUMMARY:The Drama (2026) at Curzon Hoxton
DESCRIPTION:The Drama (2026)\nat Curzon Hoxton\nBook: https://www.curzon.com/films/the-drama/HO00006892/\nvia Pictures (pictures.london)
LOCATION:Curzon Hoxton\, 58 Pitfield Street\, Hoxton\, N1 6NU
URL:https://www.curzon.com/films/the-drama/HO00006892/
STATUS:CONFIRMED
END:VEVENT
END:VCALENDAR