BEGIN:VCALENDAR
VERSION:2.0
PRODID:-//Pictures London//Cinema Listings//EN
CALSCALE:GREGORIAN
METHOD:PUBLISH
X-WR-CALNAME:Pictures London Cinema
BEGIN:VEVENT
UID:6d0a9b10-6768-4afb-b09a-d6d1ecc00a69@pictures.london
DTSTART:20260421T193000Z
DTEND:20260421T220700Z
SUMMARY:Project Hail Mary (2026) at West Norwood Picturehouse
DESCRIPTION:Project Hail Mary (2026)\nat West Norwood Picturehouse\nBook: https://www.picturehouses.com/movie-details/023/HO00017624/project-hail-mary\nvia Pictures (pictures.london)
LOCATION:West Norwood Picturehouse\, The Old Library\, 14-16 Knight's Hill\, West Norwood\, SE27 9NX
URL:https://www.picturehouses.com/movie-details/023/HO00017624/project-hail-mary
STATUS:CONFIRMED
END:VEVENT
END:VCALENDAR