BEGIN:VCALENDAR
VERSION:2.0
PRODID:-//Pictures London//Cinema Listings//EN
CALSCALE:GREGORIAN
METHOD:PUBLISH
X-WR-CALNAME:Pictures London Cinema
BEGIN:VEVENT
UID:6cf41775-fab8-4e3c-8270-ccaa2d6d50a4@pictures.london
DTSTART:20260421T110000Z
DTEND:20260421T134100Z
SUMMARY:The Secret Agent (2025) at David Lean Cinema
DESCRIPTION:The Secret Agent (2025)\nat David Lean Cinema\nBook: https://www.davidleancinema.uk/#whatson\nvia Pictures (pictures.london)
LOCATION:David Lean Cinema\, The Clocktower\, Croydon Airport\, Croydon\, CR0 0XZ
URL:https://www.davidleancinema.uk/#whatson
STATUS:CONFIRMED
END:VEVENT
END:VCALENDAR