BEGIN:VCALENDAR
VERSION:2.0
PRODID:-//Pictures London//Cinema Listings//EN
CALSCALE:GREGORIAN
METHOD:PUBLISH
X-WR-CALNAME:Pictures London Cinema
BEGIN:VEVENT
UID:6cef93c5-715d-4f21-b3f8-29d13388b065@pictures.london
DTSTART:20260421T144500Z
DTEND:20260421T161100Z
SUMMARY:Miroirs No. 3 (2025) at Picturehouse Central
DESCRIPTION:Miroirs No. 3 (2025)\nat Picturehouse Central\nBook: https://www.picturehouses.com/movie-details/022/HO00017905/miroirs-no-3\nvia Pictures (pictures.london)
LOCATION:Picturehouse Central\, Corner of Great Windmill Street & Shaftesbury Avenue\, West End\, W1D 7DH
URL:https://www.picturehouses.com/movie-details/022/HO00017905/miroirs-no-3
STATUS:CONFIRMED
END:VEVENT
END:VCALENDAR