BEGIN:VCALENDAR
VERSION:2.0
PRODID:-//Pictures London//Cinema Listings//EN
CALSCALE:GREGORIAN
METHOD:PUBLISH
X-WR-CALNAME:Pictures London Cinema
BEGIN:VEVENT
UID:6ccff73e-2ecf-4d39-b49d-389c8f6ea034@pictures.london
DTSTART:20260422T170000Z
DTEND:20260422T190700Z
SUMMARY:Michael (2026) at Greenwich Picturehouse
DESCRIPTION:Michael (2026)\nat Greenwich Picturehouse\nBook: https://www.picturehouses.com/movie-details/021/HO00017772/michael\nvia Pictures (pictures.london)
LOCATION:Greenwich Picturehouse\, 180 Greenwich High Road\, Greenwich\, SE10 9HB
URL:https://www.picturehouses.com/movie-details/021/HO00017772/michael
STATUS:CONFIRMED
END:VEVENT
END:VCALENDAR