BEGIN:VCALENDAR
VERSION:2.0
PRODID:-//Pictures London//Cinema Listings//EN
CALSCALE:GREGORIAN
METHOD:PUBLISH
X-WR-CALNAME:Pictures London Cinema
BEGIN:VEVENT
UID:6cce9804-70dd-4be9-8181-2bca27932b6f@pictures.london
DTSTART:20260421T210000Z
DTEND:20260421T224500Z
SUMMARY:The Drama (2026) at Rich Mix
DESCRIPTION:The Drama (2026)\nat Rich Mix\nBook: https://richmix.org.uk/whats-on/cinema/the-drama/\nvia Pictures (pictures.london)
LOCATION:Rich Mix\, 35-47 Bethnal Green Road\, Shoreditch\, E1 6LA
URL:https://richmix.org.uk/whats-on/cinema/the-drama/
STATUS:CONFIRMED
END:VEVENT
END:VCALENDAR