BEGIN:VCALENDAR
VERSION:2.0
PRODID:-//Pictures London//Cinema Listings//EN
CALSCALE:GREGORIAN
METHOD:PUBLISH
X-WR-CALNAME:Pictures London Cinema
BEGIN:VEVENT
UID:6ca3e23b-6aa4-40e1-bf75-4736be17558d@pictures.london
DTSTART:20260421T171000Z
DTEND:20260421T185500Z
SUMMARY:The Drama (2026) at Crouch End Picturehouse
DESCRIPTION:The Drama (2026)\nat Crouch End Picturehouse\nBook: https://www.picturehouses.com/movie-details/024/HO00017737/the-drama\nvia Pictures (pictures.london)
LOCATION:Crouch End Picturehouse\, 165 Tottenham Lane\, Crouch End\, N8 8HP
URL:https://www.picturehouses.com/movie-details/024/HO00017737/the-drama
STATUS:CONFIRMED
END:VEVENT
END:VCALENDAR